BEGIN:VCALENDAR
VERSION:2.0
PRODID:-//Tukios.com/
BEGIN:VEVENT
UID:1d649a0c-8823-4eb4-a9ff-ddb3928f6c0f@www.warrenhillsmemorialhome.com
DTSTAMP:20260423T214904Z
DTSTART:20260425T160000Z
DTEND:20260425T170000Z
SUMMARY:Funeral Service
DESCRIPTION:
URL:https://www.warrenhillsmemorialhome.com/obituaries/robert-kresge-sr
LOCATION:Warren Hills Memorial Home 234 W Washington Ave  Washington NJ 
	07882
GEO:40.7566146;-74.9896415
END:VEVENT
END:VCALENDAR