BEGIN:VCALENDAR
VERSION:2.0
PRODID:-//Tukios.com/
BEGIN:VEVENT
UID:63dcdc69-efe7-44a0-a68c-2ae6645c2a7d@www.warrenhillsmemorialhome.com
DTSTAMP:20260422T233606Z
DTSTART:20260428T150000Z
DTEND:20260428T160000Z
SUMMARY:Mass
DESCRIPTION:
URL:https://www.warrenhillsmemorialhome.com/obituaries/robert-allen
LOCATION:St. Patrick Roman Catholic Church 327 Greenwich St  Belvidere NJ 
	07823
GEO:40.8249689;-75.0783714
END:VEVENT
END:VCALENDAR