BEGIN:VCALENDAR
VERSION:2.0
PRODID:-//Tukios.com/
BEGIN:VEVENT
UID:eed2100d-6483-41eb-8336-b42d702c3a10@www.warrenhillsmemorialhome.com
DTSTAMP:20260422T233745Z
DTSTART:20260428T133000Z
DTEND:20260428T143000Z
SUMMARY:Visitation
DESCRIPTION:
URL:https://www.warrenhillsmemorialhome.com/obituaries/robert-allen
LOCATION: 234 W Washington Ave  Washington NJ 07882
GEO:40.7566146;-74.9896415
END:VEVENT
END:VCALENDAR