BEGIN:VCALENDAR
VERSION:2.0
PRODID:-//Tukios.com/
BEGIN:VEVENT
UID:7d56688a-164d-465f-a548-b7b5befe27e5@www.warrenhillsmemorialhome.com
DTSTAMP:20260421T082114Z
DTSTART:20260424T153000Z
DTEND:20260424T160000Z
SUMMARY:Memorial Service
DESCRIPTION:
URL:https://www.warrenhillsmemorialhome.com/obituaries/henry-moskal
LOCATION: 234 W Washington Ave  Washington NJ 07882
GEO:40.7566146;-74.9896415
END:VEVENT
END:VCALENDAR