BEGIN:VCALENDAR
VERSION:2.0
PRODID:-//Tukios.com/
BEGIN:VEVENT
UID:9dba470e-abe3-4c74-bdd2-435123d0acdd@www.warrenhillsmemorialhome.com
DTSTAMP:20260421T080803Z
DTSTART:20260424T140000Z
DTEND:20260424T153000Z
SUMMARY:Visitation
DESCRIPTION:
URL:https://www.warrenhillsmemorialhome.com/obituaries/henry-moskal
LOCATION: 234 W Washington Ave  Washington NJ 07882
GEO:40.7566146;-74.9896415
END:VEVENT
END:VCALENDAR