BEGIN:VCALENDAR
VERSION:2.0
PRODID:-//Tukios.com/
BEGIN:VEVENT
UID:287be99e-6d44-4791-9ec3-8766cb7fa4f4@www.warrenhillsmemorialhome.com
DTSTAMP:20260421T190731Z
DTSTART:20260423T150000Z
DTEND:20260423T153000Z
SUMMARY:Service of Remembrance
DESCRIPTION:
URL:https://www.warrenhillsmemorialhome.com/obituaries/charles-clark
LOCATION: 234 W Washington Ave  Washington NJ 07882
GEO:40.7566146;-74.9896415
END:VEVENT
END:VCALENDAR