BEGIN:VCALENDAR
VERSION:2.0
PRODID:-//Tukios.com/
BEGIN:VEVENT
UID:85f7c5ef-30e8-4de0-adc5-3715a4c608be@www.warrenhillsmemorialhome.com
DTSTAMP:20260421T190002Z
DTSTART:20260423T140000Z
DTEND:20260423T150000Z
SUMMARY:Visitation
DESCRIPTION:
URL:https://www.warrenhillsmemorialhome.com/obituaries/charles-clark
LOCATION:Warren Hills Memorial Home 234 W Washington Ave  Washington NJ 
	07882
GEO:40.7566146;-74.9896415
END:VEVENT
END:VCALENDAR