BEGIN:VCALENDAR
VERSION:2.0
PRODID:-//Tukios.com/
BEGIN:VEVENT
UID:b6fcbed1-3347-4765-9e6c-1499222b1852@www.warrenhillsmemorialhome.com
DTSTAMP:20260421T190121Z
DTSTART:20260427T160000Z
DTEND:20260427T170000Z
SUMMARY:Funeral Service
DESCRIPTION:
URL:https://www.warrenhillsmemorialhome.com/obituaries/betty-roseberry-wright
LOCATION:Warren Hills Memorial Home 234 W Washington Ave  Washington NJ 
	07882
GEO:40.7566146;-74.9896415
END:VEVENT
END:VCALENDAR