BEGIN:VCALENDAR
VERSION:2.0
PRODID:-//Tukios.com/
BEGIN:VEVENT
UID:c60390db-47c6-43fa-8750-b3073842f102@www.warrenhillsmemorialhome.com
DTSTAMP:20260421T190135Z
DTSTART:20260427T140000Z
DTEND:20260427T160000Z
SUMMARY:Visitation
DESCRIPTION:
URL:https://www.warrenhillsmemorialhome.com/obituaries/betty-roseberry-wright
LOCATION:Warren Hills Memorial Home 234 W Washington Ave  Washington NJ 
	07882
GEO:40.7566146;-74.9896415
END:VEVENT
END:VCALENDAR